{
 "version": 1.0,
 "tileBundlesPath": "./tile",
 "storageInfo": {
  "packetSize": 128,
  "storageFormat": "esriMapCacheStorageModeCompactV2"
 },
 "tileImageInfo": {
  "format": "MIXED",
  "compressionQuality": 85,
  "bandCount": 1,
  "lercError": 0
 },
 "tileInfo": {
  "spatialReference": {
   "wkid": 25833,
   "latestWkid": 25833
  },
  "origin": {
   "x": -2500000,
   "y": 9045984
  },
  "rows": 256,
  "cols": 256,
  "dpi": 96,
  "lods": [
   {
    "level": 0,
    "resolution": 21674.7100160867,
    "scale": 81920000
   },
   {
    "level": 1,
    "resolution": 10837.35500804335,
    "scale": 40960000
   },
   {
    "level": 2,
    "resolution": 5418.677504021675,
    "scale": 20480000
   },
   {
    "level": 3,
    "resolution": 2709.3387520108377,
    "scale": 10240000
   },
   {
    "level": 4,
    "resolution": 1354.6693760054188,
    "scale": 5120000
   },
   {
    "level": 5,
    "resolution": 677.3346880027094,
    "scale": 2560000
   },
   {
    "level": 6,
    "resolution": 338.6673440013547,
    "scale": 1280000
   },
   {
    "level": 7,
    "resolution": 169.33367200067735,
    "scale": 640000
   },
   {
    "level": 8,
    "resolution": 84.66683600033868,
    "scale": 320000
   },
   {
    "level": 9,
    "resolution": 42.33341800016934,
    "scale": 160000
   },
   {
    "level": 10,
    "resolution": 21.16670900008467,
    "scale": 80000
   },
   {
    "level": 11,
    "resolution": 10.583354500042335,
    "scale": 40000
   },
   {
    "level": 12,
    "resolution": 5.291677250021167,
    "scale": 20000
   },
   {
    "level": 13,
    "resolution": 2.6458386250105836,
    "scale": 10000
   },
   {
    "level": 14,
    "resolution": 1.3229193125052918,
    "scale": 5000
   },
   {
    "level": 15,
    "resolution": 0.6614596562526459,
    "scale": 2500
   },
   {
    "level": 16,
    "resolution": 0.33072982812632296,
    "scale": 1250
   },
   {
    "level": 17,
    "resolution": 0.16536491406316148,
    "scale": 625
   }
  ],
  "format": "MIXED",
  "compressionQuality": 85,
  "bandCount": 1,
  "lercError": 0,
  "storageFormat": "esriMapCacheStorageModeCompactV2",
  "packetSize": 128
 },
 "name": "20231108 publisering av kryss og tiltaksområder for innspill og høringskart",
 "serviceDescription": "",
 "spatialReference": {
  "wkid": 25833,
  "latestWkid": 25833,
  "xyTolerance": 0.001,
  "zTolerance": 0.001,
  "mTolerance": 0.001,
  "falseX": -5120900,
  "falseY": -9998100,
  "xyUnits": 10000,
  "falseZ": -100000,
  "zUnits": 10000,
  "falseM": -100000,
  "mUnits": 10000
 },
 "units": "esriMeters",
 "minLOD": 7,
 "maxLOD": 17,
 "resampling": true,
 "layers": [
  {
   "id": 2,
   "name": "Alt_A_tiltaksgrense_80m",
   "parentLayerId": -1,
   "defaultVisibility": true,
   "subLayerIds": null,
   "minScale": 0,
   "maxScale": 0,
   "type": "Feature Layer",
   "geometryType": "esriGeometryPolygon",
   "supportsDynamicLegends": true,
   "legend": [
    {
     "label": "",
     "imageData": "iVBORw0KGgoAAAANSUhEUgAAABQAAAAUCAYAAACNiR0NAAAACXBIWXMAAA7EAAAOxAGVKw4bAAAAT0lEQVQ4jWPJz8/N+8/4T42BCoDxP9MtFpBhTBZTWalh4L8T2WosDFQGLKMGUgxYKDcCFYwaSDlgoYIZKGDUwBERhoz/mW6BSlpqGAYyCwAVCxFoluI60QAAAABJRU5ErkJggg==",
     "contentType": "image/png",
     "groupId": "0",
     "height": 20,
     "width": 20,
     "layerId": 2,
     "layerName": "Alt_A_tiltaksgrense_80m"
    }
   ],
   "layerId": 2,
   "layerName": "Alt_A_tiltaksgrense_80m",
   "serviceItemId": "62eb81d0fe834302a2268258d8402bc4"
  }
 ],
 "initialExtent": {
  "xmin": -44138.63389999978,
  "ymin": 6600347.9782,
  "xmax": -34895.53230000008,
  "ymax": 6654221.346999999,
  "spatialReference": {
   "wkid": 25833,
   "latestWkid": 25833
  }
 },
 "fullExtent": {
  "xmin": -44138.63389999978,
  "ymin": 6600347.9782,
  "xmax": -34895.53230000008,
  "ymax": 6654221.346999999,
  "spatialReference": {
   "wkid": 25833,
   "latestWkid": 25833
  }
 },
 "minScale": 0,
 "maxScale": 0,
 "exportTilesAllowed": false,
 "maxExportTilesCount": 0,
 "currentVersion": 11.3,
 "mapName": "20231108 publisering av kryss og tiltaksområder for innspill og høringskart",
 "singleFusedMapCache": true,
 "type": "MapServer",
 "supportedExtensions": "",
 "capabilities": "TilesOnly,Tilemap",
 "serviceItemId": "62eb81d0fe834302a2268258d8402bc4"
}
